BEGIN:VCALENDAR
VERSION:2.0
PRODID:-//AudioTheme 1.8.0
BEGIN:VEVENT
UID:http://josephtawadros.com/?post_type=audiotheme_gig&#038;p=916
URL:http://josephtawadros.com/concerts/unorthodox-church-of-groove-newcastle/
DTSTART;TZID=GMT:20161001T100000
SUMMARY:Unorthodox Church of Groove, Newcastle
DESCRIPTION:The Joseph Tawadros Quartet presents pieces from the highly acclaimed new album\, "World Music."	
LOCATION:The Black Malabar (ex Unorthodox Church of Groove)\, 3 Tudor St\, Newcastle\, NSW\, Australia\, 2300
END:VEVENT
END:VCALENDAR