BEGIN:VCALENDAR
VERSION:2.0
PRODID:-//AudioTheme 1.8.0
BEGIN:VEVENT
UID:http://josephtawadros.com/?post_type=audiotheme_gig&#038;p=1308
URL:http://josephtawadros.com/concerts/the-music-lounge/
DTSTART;TZID=GMT:20180505T093000
SUMMARY:The Music Lounge
DESCRIPTION:Joseph Tawadros - Oud  James Tawadros - Egyptian percussion
LOCATION:Wollongong Town Hall - The Music Lounge\, 93 Crown Street\,  Wollongong\, NSW\, Australia\, 2500
END:VEVENT
END:VCALENDAR