BEGIN:VCALENDAR
VERSION:2.0
PRODID:-//AudioTheme 1.8.0
BEGIN:VEVENT
UID:http://josephtawadros.com/?post_type=audiotheme_gig&#038;p=1204
URL:http://josephtawadros.com/concerts/tawadros-trio-joseph-james-and-matt-mcmahon/
DTSTART;TZID=GMT:20171026T083000
SUMMARY:Joseph Tawadros Trio
DESCRIPTION:Joseph Tawadros - oud  James Tawadros - Egyptian percussion  Karl Dunnicliff - bass  
LOCATION:Camelot Lounge\, Marrickville Rd & Railway Parade\, Marrickville\, NSW\, Australia\, 2204
END:VEVENT
END:VCALENDAR