BEGIN:VCALENDAR
VERSION:2.0
PRODID:-//AudioTheme 1.8.0
BEGIN:VEVENT
UID:http://josephtawadros.com/redesign/?post_type=audiotheme_gig&#038;p=591
URL:http://josephtawadros.com/concerts/st-johns-freo-joseph-and-james-tawadros/
DTSTART;TZID=GMT:20160221T113000
SUMMARY:St Johns, Freo - Joseph and James Tawadros
DESCRIPTION:The Tawadros brothers - Joseph (oud) and James (percussion)  are back by popular demand at St Johns in Fremantle. 
LOCATION:St John's Fremantle\, 3\, 26 Adelaide St  \, Fremantle\, WA\, Australia\, 6160
END:VEVENT
END:VCALENDAR