BEGIN:VCALENDAR
VERSION:2.0
PRODID:-//AudioTheme 1.8.0
BEGIN:VEVENT
UID:http://josephtawadros.com/?post_type=audiotheme_gig&#038;p=1304
URL:http://josephtawadros.com/concerts/nsw-south-coast-concert-with-josephs-trio/
DTSTART;TZID=GMT:20180519T100000
SUMMARY:NSW South Coast concert with Joseph's Trio
DESCRIPTION:Joseph\, James and Matt are back at Milton Theatre
LOCATION:Milton Theatre\, 69 Princes Highway  \, Milton\, NSW \, Australia \, 2538
END:VEVENT
END:VCALENDAR