BEGIN:VCALENDAR
VERSION:2.0
PRODID:-//AudioTheme 1.8.0
BEGIN:VEVENT
UID:http://josephtawadros.com/?post_type=audiotheme_gig&#038;p=919
URL:http://josephtawadros.com/concerts/milton-theatre/
DTSTART;TZID=GMT:20161008T090000
SUMMARY:Milton Theatre
DESCRIPTION:Joseph Tawadros Trio:  Matt McMahon - piano  James Tawadros - percussion  Joseph Tawadros - oud
LOCATION:Milton Theatre\, 69 Princes Highway  \, Milton\, NSW \, Australia \, 2538
END:VEVENT
END:VCALENDAR