BEGIN:VCALENDAR
VERSION:2.0
PRODID:-//AudioTheme 1.8.0
BEGIN:VEVENT
UID:http://josephtawadros.com/?post_type=audiotheme_gig&#038;p=1028
URL:http://josephtawadros.com/concerts/metropolis-2/
DTSTART;TZID=GMT:20170506T093000
SUMMARY:Metropolis # 2 with Melbourne Symphony Orchestra
DESCRIPTION:Metropolis #2 - includes Vivaldi Lute Concerto (trans. for oud)  Melbourne Symphony Orchestra
LOCATION:Melbourne Recital Centre\, 31 Sturt St\, Southbank\, VIC\, Australia\, 3006
END:VEVENT
END:VCALENDAR