BEGIN:VCALENDAR
VERSION:2.0
PRODID:-//AudioTheme 1.8.0
BEGIN:VEVENT
UID:http://josephtawadros.com/?post_type=audiotheme_gig&#038;p=2187
URL:http://josephtawadros.com/concerts/lapwing-music-festival/
DTSTART;TZID=GMT:20190901T140000
SUMMARY:Lapwing Music Festival
DESCRIPTION:3:00pm Solo recital by Joseph Tawadros  7:30pm Festival Finale Joseph Tawadros (oud) with  Anthony Albrecht (cello)     (Music all weekend - see website for program www.lapwingfestival.com)  
LOCATION:Coastguard Cottages\, Cuckmere Haven  \, Seaford\, \, United Kingdom\, BN24 4AR
END:VEVENT
END:VCALENDAR