BEGIN:VCALENDAR
VERSION:2.0
PRODID:-//AudioTheme 1.8.0
BEGIN:VEVENT
UID:http://josephtawadros.com/?post_type=audiotheme_gig&#038;p=1303
URL:http://josephtawadros.com/concerts/josephs-trio-at-the-street-theatre/
DTSTART;TZID=GMT:20180518T093000
SUMMARY:Joseph's Trio at the Street Theatre
DESCRIPTION:Joseph Tawadros Oud  Matt McMahon - Piano  James Tawadros – Egyptian percussion.  
LOCATION:Street Theatre\, 15 Childers St\, Canberra\, ACT\, Australia\, 2601
END:VEVENT
END:VCALENDAR