BEGIN:VCALENDAR
VERSION:2.0
PRODID:-//AudioTheme 1.8.0
BEGIN:VEVENT
UID:http://josephtawadros.com/?post_type=audiotheme_gig&#038;p=1224
URL:http://josephtawadros.com/concerts/joseph-tawadros-trio/
DTSTART;TZID=GMT:20171110T103000
SUMMARY:Joseph Tawadros Trio
DESCRIPTION:Joseph Tawadros - Oud  James Tawadros - Egyptian percussion  Matt McMahon - Piano
LOCATION:Darwin Entertainment Centre\, 93 Mitchell Street  \, Darwin\, NT\, 0800
END:VEVENT
END:VCALENDAR