BEGIN:VCALENDAR
VERSION:2.0
PRODID:-//AudioTheme 1.8.0
BEGIN:VEVENT
UID:http://josephtawadros.com/?post_type=audiotheme_gig&#038;p=1301
URL:http://josephtawadros.com/concerts/joseph-tawadros-james-tawadros-the-australian-chamber-orchestra/
DTSTART;TZID=GMT:20180513T080000
SUMMARY:Australian Chamber Orchestra with Joseph & James Tawadros
DESCRIPTION:Australian Chamber Orchestra with   Joseph Tawadros Oud  James Tawadros Riq’\, Bendir  Richard Tognetti Director & Violin  And the Australian Chamber Orchestra
LOCATION:Federation Concert Hall\, Hobart\, 1 Davey Street\, Hobart\, Tasmania\, Australia\, 7000
END:VEVENT
END:VCALENDAR