BEGIN:VCALENDAR
VERSION:2.0
PRODID:-//AudioTheme 1.8.0
BEGIN:VEVENT
UID:http://josephtawadros.com/?post_type=audiotheme_gig&#038;p=1121
URL:http://josephtawadros.com/concerts/concert-4-stradroke-music-festival/
DTSTART;TZID=GMT:20170729T073000
SUMMARY:Stradbroke Chamber Music Festival
DESCRIPTION:SOLD OUT 
LOCATION:Stradbroke Island\, Nth Stradbroke\, Queensland\, Australia\, 4183
END:VEVENT
END:VCALENDAR