BEGIN:VCALENDAR
VERSION:2.0
PRODID:-//AudioTheme 1.8.0
BEGIN:VEVENT
UID:http://josephtawadros.com/?post_type=audiotheme_gig&#038;p=2548
URL:http://josephtawadros.com/concerts/camelot/
DTSTART;TZID=GMT:20200305T083000
SUMMARY:Camelot
DESCRIPTION:Joseph Tawadros and band perform their "Angel Suite" 7pm doors open.  8pm show 
LOCATION:Camelot Lounge\, Marrickville Rd & Railway Parade\, Marrickville\, NSW\, Australia\, 2204
END:VEVENT
END:VCALENDAR