BEGIN:VCALENDAR
VERSION:2.0
PRODID:-//AudioTheme 1.8.0
BEGIN:VEVENT
UID:http://josephtawadros.com/?post_type=audiotheme_gig&#038;p=2544
URL:http://josephtawadros.com/concerts/birds-basement-25-29-february/
DTSTART;TZID=GMT:20200228T084500
SUMMARY:Bird's Basement 25-29 February
DESCRIPTION:'The Art of the Oud' – a season of Joseph Tawadros solo shows: 25\, 26\, 27\, 28\, 29 February 2020.
LOCATION:Bird's Basement\, 11 Singers Lane\, Melbourne\, Vic\, Australia\, 3000
END:VEVENT
END:VCALENDAR