BEGIN:VCALENDAR
VERSION:2.0
PRODID:-//AudioTheme 1.8.0
BEGIN:VEVENT
UID:http://josephtawadros.com/?post_type=audiotheme_gig&#038;p=1311
URL:http://josephtawadros.com/concerts/australian-chamber-orchestra-with-joseph-james-tawadros/
DTSTART;TZID=GMT:20180616T100000
SUMMARY:Australian Chamber Orchestra with Joseph & James Tawadros
DESCRIPTION:Richard Tognetti Director & Violin  Joseph Tawadros Oud  James Tawadros Riq’\, Bendir
LOCATION:Darwin Entertainment Centre\, 93 Mitchell Street  \, Darwin\, NT\, 0800
END:VEVENT
END:VCALENDAR