BEGIN:VCALENDAR
VERSION:2.0
PRODID:-//AudioTheme 1.8.0
BEGIN:VEVENT
UID:http://josephtawadros.com/?post_type=audiotheme_gig&#038;p=5080
URL:http://josephtawadros.com/concerts/australian-chamber-orchestra-w-joseph-james-tawadros/
DTSTART;TZID=GMT:20241017T233000
SUMMARY:Australian Chamber Orchestra w Joseph & James Tawadros
DESCRIPTION:Joseph & James Tawadros and Australian Chamber Orchestra
LOCATION:Jorgensen Center for Performing Arts\, University of Connecticut  2132 Hillside Road\, Storrs\, Connecticut\, USA\, 06269-3104
END:VEVENT
END:VCALENDAR