BEGIN:VCALENDAR
VERSION:2.0
PRODID:-//AudioTheme 1.8.0
BEGIN:VEVENT
UID:http://josephtawadros.com/redesign/?post_type=audiotheme_gig&#038;p=401
URL:http://josephtawadros.com/concerts/albany-tawadros-grigoryan-brothers/
DTSTART;TZID=GMT:20160220T120000
SUMMARY:Band of Brothers - Grigoryan and Tawadros bros
DESCRIPTION:Band of Brothers (Slava and Leonard Grigoryan with Joseph and James Tawadros) perform at the Albany Entertainment Centre.
LOCATION:Albany Entertainment Centre\, 2 Toll Place\, Albany\, WA\, Australia\, 6330
END:VEVENT
END:VCALENDAR