BEGIN:VCALENDAR
VERSION:2.0
PRODID:-//AudioTheme 1.8.0
BEGIN:VEVENT
UID:http://josephtawadros.com/?post_type=audiotheme_gig&#038;p=4061
URL:http://josephtawadros.com/concerts/2023-02-11/
DTSTART;TZID=GMT:20230211T193000
SUMMARY:Joseph Tawadros, Delius and the Britten Sinfonia: The Golden Road to Samarkand
DESCRIPTION:Joseph Tawadros\, Delius and the Britten Sinfonia - The Golden Road to Samarkand
LOCATION:Saffron Hall\, Audley End Road  \, Saffron Walden\, \, United Kingdom\, CB11 4UH
END:VEVENT
END:VCALENDAR