BEGIN:VCALENDAR
VERSION:2.0
PRODID:-//AudioTheme 1.8.0
BEGIN:VEVENT
UID:http://josephtawadros.com/?post_type=audiotheme_gig&#038;p=4060
URL:http://josephtawadros.com/concerts/2023-02-10/
DTSTART;TZID=GMT:20230210T193000
SUMMARY:Joseph Tawadros and the Britten Sinfonia - The Golden Road to Samarkand
DESCRIPTION:Joseph Tawadros and the Britten Sinfonia - The Golden Road to Samarkand  
LOCATION:Barbican\, Silk Street  \, London\, \, UK\, EC2Y 8DS
END:VEVENT
END:VCALENDAR