BEGIN:VCALENDAR
VERSION:2.0
PRODID:-//AudioTheme 1.8.0
BEGIN:VEVENT
UID:http://josephtawadros.com/?post_type=audiotheme_gig&#038;p=3709
URL:http://josephtawadros.com/concerts/2022-03-18/
DTSTART;TZID=GMT:20220318T090000
SUMMARY:Ukaria Cultural Centre
LOCATION:Ukaria\, 119 Williams Rd\, Mt Barker Summit\,\, South Australia\, Australia\,  5251
END:VEVENT
END:VCALENDAR