BEGIN:VCALENDAR
VERSION:2.0
PRODID:-//AudioTheme 1.8.0
BEGIN:VEVENT
UID:http://josephtawadros.com/?post_type=audiotheme_gig&#038;p=3699
URL:http://josephtawadros.com/concerts/2022-03-12/
DTSTART;TZID=GMT:20220312T070000
SUMMARY:Womadelaide - Duo
DESCRIPTION:Adelaide Botanic High School Plaza
LOCATION:Womadelaide\, Adelaide Botanic Gardens\, Adelaide\, South Australia\, Australia\, 5000
END:VEVENT
END:VCALENDAR