BEGIN:VCALENDAR
VERSION:2.0
PRODID:-//AudioTheme 1.8.0
BEGIN:VEVENT
UID:http://josephtawadros.com/?post_type=audiotheme_gig&#038;p=3704
URL:http://josephtawadros.com/concerts/2022-03-11/
DTSTART;TZID=GMT:20220311T073000
SUMMARY:Womadelaide w Symphony
DESCRIPTION:Adelaide Symphony with Joseph and James Tawadros
LOCATION:Womadelaide\, Adelaide Botanic Gardens\, Adelaide\, South Australia\, Australia\, 5000
END:VEVENT
END:VCALENDAR