BEGIN:VCALENDAR
VERSION:2.0
PRODID:-//AudioTheme 1.8.0
BEGIN:VEVENT
UID:http://josephtawadros.com/?post_type=audiotheme_gig&#038;p=3695
URL:http://josephtawadros.com/concerts/2022-03-03/
DTSTART;TZID=GMT:20220303T080000
SUMMARY:Camelot Lnge - Trio
DESCRIPTION:Tawadros Trio:   Joseph Tawadros - Oud  Matt McMahon - Piano  James Tawadros - Percussion    Six time ARIA Award winning Tawadros brothers arent afraid to try new things. Challenging traditional musical forms and pushing boundaries\, they bring an exciting performing dynamic to the stage.    The Tawadros brothers are from a musical family and were brought up in environment which encouraged music and individuality. They are recognised worldwide and have performed in some of the world’s most prestigious venues with celebrated artists such as Roy Ayers\, Bela Fleck\, Richard Bona\, Zakir Hussain\, John Abercrombie\, John Patitucci\, Jack DeJohnette\, the BBC Symphony Orchestra\, Joey DeFrancesco\, Richard Tognetti and the Australian Chamber Orchestra\, Sultan Khan\, the Academy of Ancient Music\, the Sydney Symphony Orchestra and Camerata Salzburg to name a few.    They have recorded 13 albums and been nominated a record 15 times in the ARIA Awards\, winning a hat-trick in 2012\, 2013 and 2014. Joined with the amazing Matt McMahon on Piano\, Together they perform the original music of Joseph Tawadros. Josephs Middle Eastern flavoured compositions constantly push the boundaries of melody and metre and are a rare combination of highly emotional music intertwined with boundless energy. True musicianship of the highest degree.    See them in an intimate trio concert celebrating their new CD 'Hope in an Empty City'\, amongst some well known Tawadros classics. www.josephtawadros.com      
LOCATION:Camelot Lounge\, Marrickville Rd & Railway Parade\, Marrickville\, NSW\, Australia\, 2204
END:VEVENT
END:VCALENDAR