BEGIN:VCALENDAR
VERSION:2.0
PRODID:-//AudioTheme 1.8.0
BEGIN:VEVENT
UID:http://josephtawadros.com/?post_type=audiotheme_gig&#038;p=3694
URL:http://josephtawadros.com/concerts/2022-02-27/
DTSTART;TZID=GMT:20220227T050000
SUMMARY:Street Theatre - Quartet
DESCRIPTION:The quartet: Joseph (Oud)  James Tawadros (Egyptian percussion) Matt McMahon (piano) and Karl Dunnicliff (double bass)
LOCATION:Street Theatre\, 15 Childers St\, Canberra\, ACT\, Australia\, 2601
END:VEVENT
END:VCALENDAR