BEGIN:VCALENDAR
VERSION:2.0
PRODID:-//AudioTheme 1.8.0
BEGIN:VEVENT
UID:http://josephtawadros.com/?post_type=audiotheme_gig&#038;p=2495
URL:http://josephtawadros.com/concerts/2020-03-01-2/
DTSTART;TZID=GMT:20200301T050000
SUMMARY:Joseph Tawadros Quartet
DESCRIPTION:Joseph Tawadros (oud)\, Matt McMahon (piano)\, James Tawadros (Egyptian percussion)\, Karl Dunnicliff (double bass)
LOCATION:Street Theatre\, 15 Childers St\, Canberra\, ACT\, Australia\, 2601
END:VEVENT
END:VCALENDAR