BEGIN:VCALENDAR
VERSION:2.0
PRODID:-//AudioTheme 1.8.0
BEGIN:VEVENT
UID:http://josephtawadros.com/?post_type=audiotheme_gig&#038;p=2488
URL:http://josephtawadros.com/concerts/2020-02-24/
DTSTART;TZID=GMT:20200225T084500
SUMMARY:Bird's Basement - Feb 24 to 29 - The Art of the Oud
DESCRIPTION:The Art of the Oud - a season of solo shows - 25\, 26\, 27\, 28\, 29 February.
LOCATION:Bird's Basement\, 11 Singers Lane\, Melbourne\, Vic\, Australia\, 3000
END:VEVENT
END:VCALENDAR