BEGIN:VCALENDAR
VERSION:2.0
PRODID:-//AudioTheme 1.8.0
BEGIN:VEVENT
UID:http://josephtawadros.com/?post_type=audiotheme_gig&#038;p=2494
URL:http://josephtawadros.com/concerts/2020-02-19/
DTSTART;TZID=GMT:20200219T070000
SUMMARY:Joseph and James Tawadros
DESCRIPTION:Joseph Tawadros (oud) and James Tawadros (Egyptian percussion)
LOCATION:Moncrieff Entertainment Centre\, 177 Bourbong Street\,  Bundaberg\, QLD\, Australia\, 4670
END:VEVENT
END:VCALENDAR