BEGIN:VCALENDAR
VERSION:2.0
PRODID:-//AudioTheme 1.8.0
BEGIN:VEVENT
UID:http://josephtawadros.com/?post_type=audiotheme_gig&#038;p=2486
URL:http://josephtawadros.com/concerts/2020-02-16/
DTSTART;TZID=GMT:20200216T080000
SUMMARY:Joseph Tawadros Quartet at Camelot
DESCRIPTION:Quartet with Joseph Tawadros (oud)\, James Tawadros (Egyptian percussion)\, Matt McMahon (piano) and Karl Dunnicliff (bass)
LOCATION:Camelot Lounge\, Marrickville Rd & Railway Parade\, Marrickville\, NSW\, Australia\, 2204
END:VEVENT
END:VCALENDAR