BEGIN:VCALENDAR
VERSION:2.0
PRODID:-//AudioTheme 1.8.0
BEGIN:VEVENT
UID:http://josephtawadros.com/?post_type=audiotheme_gig&#038;p=2446
URL:http://josephtawadros.com/concerts/2019-12-13/
DTSTART;TZID=GMT:20191213T200000
SUMMARY:The Art of the Oud
DESCRIPTION:An intimate solo recital full of surprises.
LOCATION:Rich Mix\, 35-47 Bethnal Green Road\, London\, \, England.\, E1 6LA
END:VEVENT
END:VCALENDAR