BEGIN:VCALENDAR
VERSION:2.0
PRODID:-//AudioTheme 1.8.0
BEGIN:VEVENT
UID:http://josephtawadros.com/?post_type=audiotheme_gig&#038;p=2322
URL:http://josephtawadros.com/concerts/2019-10-09/
DTSTART;TZID=GMT:20191009T080000
SUMMARY:Tawadros Quartet At Camelot
DESCRIPTION:Due to high demand after Wed 25 Sep's sold out show Joseph and the band have squeezed in one more concert before he returns to London
LOCATION:Camelot Lounge\, Marrickville Rd & Railway Parade\, Marrickville\, NSW\, Australia\, 2204
END:VEVENT
END:VCALENDAR