BEGIN:VCALENDAR
VERSION:2.0
PRODID:-//AudioTheme 1.8.0
BEGIN:VEVENT
UID:http://josephtawadros.com/?post_type=audiotheme_gig&#038;p=2128
URL:http://josephtawadros.com/concerts/2019-10-06/
DTSTART;TZID=GMT:20191006T073000
SUMMARY:Band of Brothers at Barossa
DESCRIPTION:Tawadros and Grigoryan brothers
LOCATION:Old Redemption Cellar / Peter Lehmann Wines\, Para Road\, Tanunda\, SA\, Australia\, 5352
END:VEVENT
END:VCALENDAR