BEGIN:VCALENDAR
VERSION:2.0
PRODID:-//AudioTheme 1.8.0
BEGIN:VEVENT
UID:http://josephtawadros.com/?post_type=audiotheme_gig&#038;p=2126
URL:http://josephtawadros.com/concerts/2019-10-05/
DTSTART;TZID=GMT:20191005T083000
SUMMARY:Barossa Baroque & Beyond
DESCRIPTION:Barossa Baroque & Beyond Festival
LOCATION:Maggie Beer’s Farm Eatery\, 50 Pheasant Farm Road\, Nuriootpa\, SA\, Australia\, 5355
END:VEVENT
END:VCALENDAR