BEGIN:VCALENDAR
VERSION:2.0
PRODID:-//AudioTheme 1.8.0
BEGIN:VEVENT
UID:http://josephtawadros.com/?post_type=audiotheme_gig&#038;p=2113
URL:http://josephtawadros.com/concerts/2019-09-29/
DTSTART;TZID=GMT:20190929T043000
SUMMARY:Joseph and James Tawadros
DESCRIPTION:Bellingen Fine Music Festival
LOCATION:Bellingen Memorial Hall\, 35 Hyde Street   \, Bellingen\, NSW\, Australia\, 2454
END:VEVENT
END:VCALENDAR