BEGIN:VCALENDAR
VERSION:2.0
PRODID:-//AudioTheme 1.8.0
BEGIN:VEVENT
UID:http://josephtawadros.com/?post_type=audiotheme_gig&#038;p=2109
URL:http://josephtawadros.com/concerts/2019-09-28/
DTSTART;TZID=GMT:20190928T090000
SUMMARY:Regent Theatre
LOCATION:Regent Theatre\, 5 Brisbane Street \, Murwillumbah\, NSW\, Australia\, 2484
END:VEVENT
END:VCALENDAR