BEGIN:VCALENDAR
VERSION:2.0
PRODID:-//AudioTheme 1.8.0
BEGIN:VEVENT
UID:http://josephtawadros.com/?post_type=audiotheme_gig&#038;p=2106
URL:http://josephtawadros.com/concerts/2019-09-27/
DTSTART;TZID=GMT:20190927T100000
SUMMARY:Milton Theatre NSW South Coast
LOCATION:Milton Theatre\, 69 Princes Highway  \, Milton\, NSW \, Australia \, 2538
END:VEVENT
END:VCALENDAR