BEGIN:VCALENDAR
VERSION:2.0
PRODID:-//AudioTheme 1.8.0
BEGIN:VEVENT
UID:http://josephtawadros.com/?post_type=audiotheme_gig&#038;p=2098
URL:http://josephtawadros.com/concerts/2019-09-19/
DTSTART;TZID=GMT:20190919T093000
SUMMARY:Solo recital - Montsalvat Victoria
DESCRIPTION:The Art of the Oud    In the Barn Gallery at Montsalvat
LOCATION:Montsalvat\, 7 Hillcrest Avenue\, Eltham\, Victoria\, Australia\, 3095
END:VEVENT
END:VCALENDAR