BEGIN:VCALENDAR
VERSION:2.0
PRODID:-//AudioTheme 1.8.0
BEGIN:VEVENT
UID:http://josephtawadros.com/?post_type=audiotheme_gig&#038;p=1884
URL:http://josephtawadros.com/concerts/2019-07-05/
DTSTART;TZID=GMT:20190705T093000
SUMMARY:Darwin Entertainment Centre - Joseph and James Tawadros
DESCRIPTION:Joseph Tawadros - Oud  James Tawadros - Egyptian percussion
LOCATION:Darwin Entertainment Centre\, 93 Mitchell Street  \, Darwin\, NT\, 0800
END:VEVENT
END:VCALENDAR