BEGIN:VCALENDAR
VERSION:2.0
PRODID:-//AudioTheme 1.8.0
BEGIN:VEVENT
UID:http://josephtawadros.com/?post_type=audiotheme_gig&#038;p=1881
URL:http://josephtawadros.com/concerts/2019-07-04/
DTSTART;TZID=GMT:20190704T093000
SUMMARY:Melbourne Recital Centre - Joseph Tawadros Quartet
DESCRIPTION:JOSEPH TAWADROS QUARTET   Joseph Tawadros - Oud  James Tawadros - Egyptian percussion  Matt McMahon - Piano  Karl Dunnicliff - Double bass
LOCATION:Melbourne Recital Centre\, 31 Sturt St\, Southbank\, VIC\, Australia\, 3006
END:VEVENT
END:VCALENDAR