BEGIN:VCALENDAR
VERSION:2.0
PRODID:-//AudioTheme 1.8.0
BEGIN:VEVENT
UID:http://josephtawadros.com/?post_type=audiotheme_gig&#038;p=1928
URL:http://josephtawadros.com/concerts/2019-06-30/
DTSTART;TZID=GMT:20190630T060000
SUMMARY:Tawadros Quartet in Canberra
DESCRIPTION:Joseph Tawadros Quartet  Original World Music & Jazz     Joseph Tawadros – Oud  James Tawadros – Req\, Bendir (Egyptian percussion)  Karl Dunnicliff – double bass  Matt McMahon – piano
LOCATION:Street Theatre\, 15 Childers St\, Canberra\, ACT\, Australia\, 2601
END:VEVENT
END:VCALENDAR