BEGIN:VCALENDAR
VERSION:2.0
PRODID:-//AudioTheme 1.8.0
BEGIN:VEVENT
UID:http://josephtawadros.com/?post_type=audiotheme_gig&#038;p=1985
URL:http://josephtawadros.com/concerts/2019-06-28/
DTSTART;TZID=GMT:20190628T093000
SUMMARY:Joseph Tawadros Trio - Berry, NSW
DESCRIPTION:Joseph Tawadros (Oud)  James Tawadros (Egyptian percussion)  Matt McMahon (Piano)
LOCATION:Berry Uniting Church\, 77 Albert St\, Berry\, NSW\, Australia\, 2535
END:VEVENT
END:VCALENDAR