BEGIN:VCALENDAR
VERSION:2.0
PRODID:-//AudioTheme 1.8.0
BEGIN:VEVENT
UID:http://josephtawadros.com/?post_type=audiotheme_gig&#038;p=1851
URL:http://josephtawadros.com/concerts/2019-06-20/
DTSTART;TZID=GMT:20190620T083000
SUMMARY:Sydney Opera House Tawadros Concerto for Oud & Orchestra
DESCRIPTION:Joseph Tawadros (Oud)\, James Tawadros (Req) and Sydney Symphony Orchestra perform Joseph's Concerto for Oud & Orchestra.     Three  Performances:     Thursday 20 June 2019 6.30pm     Friday 21 June 2019\, 7pm     Saturday 22 June 7pm
LOCATION:Sydney Opera House\, Circular Quay\, Sydney\, NSW\, Australia\, 2000
END:VEVENT
END:VCALENDAR