BEGIN:VCALENDAR
VERSION:2.0
PRODID:-//AudioTheme 1.8.0
BEGIN:VEVENT
UID:http://josephtawadros.com/?post_type=audiotheme_gig&#038;p=1826
URL:http://josephtawadros.com/concerts/2019-06-14/
DTSTART;TZID=GMT:20190614T100000
SUMMARY:Blue Mountains Theatre
DESCRIPTION:The Joseph Tawadros Quartet:   Joseph Tawadros - Oud   James Tawadros - Bendir\, Req (Egyptian percussion)  Karl Dunnicliff - Double bass  Matt McMahon - Piano
LOCATION:Blue Mountains Theatre\, 104 Macquarie Road\, Springwood\, NSW\, Australia\, 2777
END:VEVENT
END:VCALENDAR