BEGIN:VCALENDAR
VERSION:2.0
PRODID:-//AudioTheme 1.8.0
BEGIN:VEVENT
UID:http://josephtawadros.com/?post_type=audiotheme_gig&#038;p=1824
URL:http://josephtawadros.com/concerts/2019-06-08/
DTSTART;TZID=GMT:20190609T093000
SUMMARY:Woodend Winter Arts Festival
DESCRIPTION:Joseph presents a solo oud recital at the Woodend Winter Arts Festival in regional Victoria. 
LOCATION:Woodend Winter Arts Festival - St Ambrose Ch.\, 47 Urquart Street\, Woodend\, VIC\, Australia\, 3442
END:VEVENT
END:VCALENDAR