BEGIN:VCALENDAR
VERSION:2.0
PRODID:-//AudioTheme 1.8.0
BEGIN:VEVENT
UID:http://josephtawadros.com/?post_type=audiotheme_gig&#038;p=1616
URL:http://josephtawadros.com/concerts/2019-03-19/
DTSTART;TZID=GMT:20190319T193000
SUMMARY:The Art of the Oud
DESCRIPTION:An evening in which traditional Arabic music meets jazz and classical in this celebration of the evocative voice of the oud—the ancient Middle-Eastern lute. 
LOCATION:Asia House\, 63 New Cavendish Street\, London\, \, United Kingdom\, W1G 7LP
END:VEVENT
END:VCALENDAR