BEGIN:VCALENDAR
VERSION:2.0
PRODID:-//AudioTheme 1.8.0
BEGIN:VEVENT
UID:http://josephtawadros.com/?post_type=audiotheme_gig&#038;p=1501
URL:http://josephtawadros.com/concerts/2018-12-09/
DTSTART;TZID=GMT:20181209T050000
SUMMARY:Joseph Tawadros and James Tawadros
DESCRIPTION:Joseph Tawadros (oud) and James Tawadros (Egyptian percussion)
LOCATION:Regent Theatre\, 5 Brisbane Street \, Murwillumbah\, NSW\, Australia\, 2484
END:VEVENT
END:VCALENDAR