BEGIN:VCALENDAR
VERSION:2.0
PRODID:-//AudioTheme 1.8.0
BEGIN:VEVENT
UID:http://josephtawadros.com/?post_type=audiotheme_gig&#038;p=1503
URL:http://josephtawadros.com/concerts/2018-12-08/
DTSTART;TZID=GMT:20181208T070000
SUMMARY:Brisbane Lord Mayor's Christmas Carols
DESCRIPTION:Joseph Tawadros\, James Tawadros plus orchestra join a cast of dozens of great performers.
LOCATION:Brisbane Riverstage\, 59 Gardens Point Road\, Brisbane\, Qld\, Australia\, 4000
END:VEVENT
END:VCALENDAR