BEGIN:VCALENDAR
VERSION:2.0
PRODID:-//AudioTheme 1.8.0
BEGIN:VEVENT
UID:http://josephtawadros.com/?post_type=audiotheme_gig&#038;p=1565
URL:http://josephtawadros.com/concerts/2018-11-27/
DTSTART;TZID=GMT:20181127T083000
SUMMARY:Joseph Tawadros and James Tawadros
DESCRIPTION:James Tawadros (Egyptian percussion) and Joseph Tawadros (oud)
LOCATION:Camelot Lounge\, Marrickville Rd & Railway Parade\, Marrickville\, NSW\, Australia\, 2204
END:VEVENT
END:VCALENDAR