BEGIN:VCALENDAR
VERSION:2.0
PRODID:-//AudioTheme 1.8.0
BEGIN:VEVENT
UID:http://josephtawadros.com/?post_type=audiotheme_gig&#038;p=1506
URL:http://josephtawadros.com/concerts/2018-11-17/
DTSTART;TZID=GMT:20181117T080000
SUMMARY:Joseph Tawadros and James Tawadros
DESCRIPTION:Duo concert at the chapel
LOCATION:Jamberoo Chapel Sound Space\, 11 Wyalla Road\, Jamberoo\, NSW\, 2533
END:VEVENT
END:VCALENDAR