BEGIN:VCALENDAR
VERSION:2.0
PRODID:-//AudioTheme 1.8.0
BEGIN:VEVENT
UID:http://josephtawadros.com/?post_type=audiotheme_gig&#038;p=1479
URL:http://josephtawadros.com/concerts/2018-11-09/
DTSTART;TZID=GMT:20181109T070000
SUMMARY:The Art Of The Oud - solo concert
DESCRIPTION:Two concerts: 6PM and 8PM   Solo oud recital by Joseph Tawadros
LOCATION:Melbourne Recital Centre\, 31 Sturt St\, Southbank\, VIC\, Australia\, 3006
END:VEVENT
END:VCALENDAR