BEGIN:VCALENDAR
VERSION:2.0
PRODID:-//AudioTheme 1.8.0
BEGIN:VEVENT
UID:http://josephtawadros.com/?post_type=audiotheme_gig&#038;p=1498
URL:http://josephtawadros.com/concerts/2018-11-04/
DTSTART;TZID=GMT:20181104T063000
SUMMARY:Wangaratta Jazz Festival
DESCRIPTION:Joseph presents a solo concert at Holy Trinity Cathedral at Wangaratta Jazz Festival  
LOCATION:Wangaratta Jazz Festival\, Holy Trinity Church  6 The Close\, Wangaratta\, VIC\, Australia\, 3677
END:VEVENT
END:VCALENDAR